BEGIN:VCALENDAR
VERSION:2.0
PRODID:Events Booking
BEGIN:VEVENT
UID:69ea2f5adf4fc
SUMMARY:Anerkennungswissen im Kontext der Fachkräfteeinwanderung – Erzie
 her*innen/Pädagogische Fachkräfte 
DESCRIPTION:Kostenfreies Webinar im Kontext der Fachkräfteeinwanderung –
  Ihnen wird die berufliche Anerkennungsmöglichkeiten von Erzieher*innen u
 nd Pädagogische Fachkräften verständlich erklärt sowie&nbsp\;das besch
 leunigte Fachkräftefahren und das die Einreise von Fachkräften aus Dritt
 staaten aufgezeigt.
DTSTART:20260723T080000Z
DTEND:20260723T093000Z
DTSTAMP:20260422T122309Z
ORGANIZER;CN=IQ Veranstaltung: Bestätigung:MAILTO:noreply@migranet.org
END:VEVENT
END:VCALENDAR