BEGIN:VCALENDAR
VERSION:2.0
PRODID:Events Booking
BEGIN:VEVENT
UID:69eca4bd3a2a0
SUMMARY:(AUSGEBUCHT) Anerkennungswissen verständlich und kompakt! Ein Onli
 ne-Workshop für die Praxis. Teil I 
DESCRIPTION:In dieser zweiteiligen Grundlagenschulung werden in fachlichen 
 Inputs und Übungen umfassende praktische Kenntnisse zum Anerkennungsverfa
 hren vermittelt.&nbsp\;
DTSTART:20250116T080000Z
DTEND:20250116T120000Z
DTSTAMP:20260425T112549Z
ORGANIZER;CN=IQ Veranstaltung: Bestätigung:MAILTO:noreply@migranet.org
END:VEVENT
END:VCALENDAR